BEGIN:VCALENDAR
VERSION:2.0
PRODID:-//Union Régionale Rhône Alpes - ECPv6.2.9//NONSGML v1.0//EN
CALSCALE:GREGORIAN
METHOD:PUBLISH
X-WR-CALNAME:Union Régionale Rhône Alpes
X-ORIGINAL-URL:https://union-regionale-ra.foyersruraux.org
X-WR-CALDESC:évènements pour Union Régionale Rhône Alpes
REFRESH-INTERVAL;VALUE=DURATION:PT1H
X-Robots-Tag:noindex
X-PUBLISHED-TTL:PT1H
BEGIN:VTIMEZONE
TZID:Europe/Paris
BEGIN:DAYLIGHT
TZOFFSETFROM:+0100
TZOFFSETTO:+0200
TZNAME:CEST
DTSTART:20260329T010000
END:DAYLIGHT
BEGIN:STANDARD
TZOFFSETFROM:+0200
TZOFFSETTO:+0100
TZNAME:CET
DTSTART:20261025T010000
END:STANDARD
END:VTIMEZONE
BEGIN:VEVENT
DTSTART;TZID=Europe/Paris:20260510T083000
DTEND;TZID=Europe/Paris:20260510T170000
DTSTAMP:20260421T151627
CREATED:20260420T090821Z
LAST-MODIFIED:20260420T090821Z
UID:25346-1778401800-1778432400@union-regionale-ra.foyersruraux.org
SUMMARY:Rando VTT/ Pédestre à Echallon le 10 mai 2026
DESCRIPTION:Rendez-vous le 10 mai à ECHALLON (01) pour une rando VTT/ Pédestre\, organisée par le Foyer Rural D’ECHALL0N \n… à vos vélo et baskets  \nPossibilité de repas sur place\, pensez à  réserver ! \n  \n 
URL:https://union-regionale-ra.foyersruraux.org/evenement/rando-vtt-pedestre-a-echallon-le-10-mai-2026/
LOCATION:Echallon
ATTACH;FMTTYPE=image/jpeg:https://union-regionale-ra.foyersruraux.org/wp-content/uploads/sites/25/2026/04/affiche-rando-VTT-2026.jpg
END:VEVENT
END:VCALENDAR