BEGIN:VCALENDAR
VERSION:2.0
PRODID:-//Union Régionale Rhône Alpes - ECPv6.2.9//NONSGML v1.0//EN
CALSCALE:GREGORIAN
METHOD:PUBLISH
X-ORIGINAL-URL:https://union-regionale-ra.foyersruraux.org
X-WR-CALDESC:évènements pour Union Régionale Rhône Alpes
REFRESH-INTERVAL;VALUE=DURATION:PT1H
X-Robots-Tag:noindex
X-PUBLISHED-TTL:PT1H
BEGIN:VTIMEZONE
TZID:Europe/Paris
BEGIN:DAYLIGHT
TZOFFSETFROM:+0100
TZOFFSETTO:+0200
TZNAME:CEST
DTSTART:20260329T010000
END:DAYLIGHT
BEGIN:STANDARD
TZOFFSETFROM:+0200
TZOFFSETTO:+0100
TZNAME:CET
DTSTART:20261025T010000
END:STANDARD
END:VTIMEZONE
BEGIN:VEVENT
DTSTART;TZID=Europe/Paris:20260321T190000
DTEND;TZID=Europe/Paris:20260321T223000
DTSTAMP:20260419T165538
CREATED:20260302T144948Z
LAST-MODIFIED:20260302T144948Z
UID:25291-1774119600-1774132200@union-regionale-ra.foyersruraux.org
SUMMARY:L'ESArt’s revient le samedi 21 mars 2026! 🎭
DESCRIPTION:L’ESA vous invite à vivre une soirée conviviale autour d’un dîner\, rythmée par des performances de cirque\, danse\, chant\, musique et magie. \nUn moment de partage pour découvrir et encourager tout nos talents dans une ambiance festive ! \n🕖 Ouverture des portes : 19h \n🎬 Début du spectacle : 20h \n📍 Salle polyvalente de Biziat \n💶 Entrée : 27€ (repas inclus) \n👉 Pour vous inscrire\, des tickets seront distribués pendant les cours. \n📞 Vous pouvez également réserver par téléphone au 06 70 57 56 15. \nOn vous attend nombreux pour cette belle soirée ! ✨
URL:https://union-regionale-ra.foyersruraux.org/evenement/lesarts-revient-le-samedi-21-mars-2026-%f0%9f%8e%ad/
LOCATION:Biziat\, BIZIAT\, 01290\, France
ATTACH;FMTTYPE=image/jpeg:https://union-regionale-ra.foyersruraux.org/wp-content/uploads/sites/25/2026/03/ESART-MARS-2026.jpg
END:VEVENT
END:VCALENDAR